BEGIN:VCALENDAR
PRODID:-//eluceo/ical//2.0/EN
VERSION:2.0
CALSCALE:GREGORIAN
BEGIN:VEVENT
UID:f27f004ba980432d99c54f67a7ce2477
DTSTAMP:20260422T081226Z
SUMMARY:Yom Kippur Storytelling Experiences at Neveh Shalom
DESCRIPTION:Jewish Federation of Greater Portland\nCommunity Calendar\nhttp
 s://jewishportland.org/community-calendar/yom-kippur-storytelling-experien
 ces-at-neveh-shalom\n\n*Please note that tickets are REQUIRED for these ev
 ents*\n\nTo purchase tickets\, please visit https://nevehshalom.org/hhd57
 84/\,contact hhd@nevehshalom.org or 503-246-8831.\n\nNeveh Shalom is an 
 open and egalitarian community. Our services are led by our clergy team Ra
 bbi David Kosak\, Rabbi Eve Posen\, and Cantor Eyal Bitton\, along with gu
 est leader Natan Meir\, and our lay leaders.\n\nWe welcome all to experien
 ce the New Year with Neveh Shalom!\n\n\n\nJewish storyteller Brian Rohr wi
 ll share...
DTSTART;TZID=America/Los_Angeles:20230925T103000
DTEND;TZID=America/Los_Angeles:20230925T173000
END:VEVENT
END:VCALENDAR
