BEGIN:VCALENDAR
PRODID:-//eluceo/ical//2.0/EN
VERSION:2.0
CALSCALE:GREGORIAN
BEGIN:VEVENT
UID:b579a1e3be4497a29ac9802d7206a411
DTSTAMP:20260422T203137Z
SUMMARY:Yom Kippur Family Service
DESCRIPTION:Jewish Federation of Greater Portland\nCommunity Calendar\nhttp
 s://jewishportland.org/community-calendar/yom-kippur-family-service-169117
 1508\n\nYom Kippur Family Service\n10:00 AM\nIn-Person ONLY\nGoodman Hall\
 n\nRabbi Rachel Joseph\, Education Director Ben Sandler\, and Artist-in-Re
 sidence Kim Schneiderman lead a Yom Kippur Service for families with child
 ren third grade and under\n\nAll who wish to join Congregation Beth Israel
  for the High Holidays are welcome to do so\; please register in advance a
 t https://www.bethisrael-pdx.org/high-holidays-guests/
DTSTART;TZID=America/Los_Angeles:20230925T100000
DTEND;TZID=America/Los_Angeles:20230925T120000
END:VEVENT
END:VCALENDAR
