BEGIN:VCALENDAR
PRODID:-//eluceo/ical//2.0/EN
VERSION:2.0
CALSCALE:GREGORIAN
BEGIN:VEVENT
UID:18d211096d82178513992f4c2b3c34be
DTSTAMP:20260426T034646Z
SUMMARY:Women's Passover Seder with Rabbi Laurie of Gesher
DESCRIPTION:Jewish Federation of Greater Portland\nCommunity Calendar\nhttp
 s://jewishportland.org/community-calendar/womens-passover-seder-with-rabbi
 -laurie-of-gesher\n\nDid you miss a seder on the first or second nights?\n
 \nWould you like another Seder just with women?\n\nRabbi Laurie invites a
 ll identified women to gather\, celebrate and explore the Passover story t
 hrough sharing how\, in this very time\,  we connect our experiences of 
 slavery and degradation with those of our ancestors\, and how we can see 
 the seder as opening up pathways to hope and liberation. A delicious Sed
 er meal will be served.  RSVP is necessary at www.ourjewishhome.org. 
DTSTART;TZID=America/Los_Angeles:20230409T160000
DTEND;TZID=America/Los_Angeles:20230409T180000
END:VEVENT
END:VCALENDAR
