BEGIN:VCALENDAR
PRODID:-//eluceo/ical//2.0/EN
VERSION:2.0
CALSCALE:GREGORIAN
BEGIN:VEVENT
UID:c9ce0e947d7a6ac7c7b537e787ed20a4
DTSTAMP:20260424T114837Z
SUMMARY:Wisenberg & Grabel reading
DESCRIPTION:Jewish Federation of Greater Portland\nCommunity Calendar\nhttp
 s://jewishportland.org/community-calendar/wisenberg--grabel-reading-169214
 1838\n\nS.L. (Sandi) Wisenberg is the author of the recent The Wandering W
 omb: Essays in Search of Home\, which won the Juniper Prize in creative no
 nfiction\,. It is about living in a Jewish female body while always being 
 aware of history. Her other books are the Adventures of Cancer Bitch\, Hol
 ocaust Girls: History\, Memory & Other Obsessions\, and the Sweetheart is 
 In. She lives in Chicago and edits Another Chicago Magazine. Leanne Grabel
  is a longtime Portland poet whose latest work is Old With Jokes\, ...
DTSTART;TZID=America/Los_Angeles:20230822T190000
DTEND;TZID=America/Los_Angeles:20230822T210000
END:VEVENT
END:VCALENDAR
