BEGIN:VCALENDAR
PRODID:-//eluceo/ical//2.0/EN
VERSION:2.0
CALSCALE:GREGORIAN
BEGIN:VEVENT
UID:1c3e575e9dd4605ae66d1701d4d7e9ae
DTSTAMP:20260425T190840Z
SUMMARY:What I want to Teach:  Rabbis teach at the MJCC
DESCRIPTION:Jewish Federation of Greater Portland\nCommunity Calendar\nhttp
 s://jewishportland.org/community-calendar/what-i-want-to-teach--rabbis-tea
 ch-at-the-mjcc-1680201108\n\nJoin Rabbi Jonathan Seidel\, President of the
  Oregon Board of Rabbis for a conversation about "What he wants to teach."
   This series will feature Oregon Rabbis on a range of topics on a monthly
  basis.\n\nTopic TBA\n\nWith Support from the Kostiner Cultural Education 
 Fund
DTSTART;TZID=America/Los_Angeles:20230511T113000
DTEND;TZID=America/Los_Angeles:20230511T133000
END:VEVENT
END:VCALENDAR
