BEGIN:VCALENDAR
PRODID:-//eluceo/ical//2.0/EN
VERSION:2.0
CALSCALE:GREGORIAN
BEGIN:VEVENT
UID:b039ba50db5294ee65e54e7a7dbbbe51
DTSTAMP:20260425T001309Z
SUMMARY:Wexner Group May 16\, 2023
DESCRIPTION:Jewish Federation of Greater Portland\nCommunity Calendar\nhttp
 s://jewishportland.org/community-calendar/wexner-group-may-16-2023\n\nDeta
 ils to follow.
DTSTART;TZID=America/Los_Angeles:20230516T173000
DTEND;TZID=America/Los_Angeles:20230516T213000
END:VEVENT
END:VCALENDAR
