BEGIN:VCALENDAR
PRODID:-//eluceo/ical//2.0/EN
VERSION:2.0
CALSCALE:GREGORIAN
BEGIN:VEVENT
UID:1ae23ddc07d33bd4dd9a7b15dc374632
DTSTAMP:20260419T194411Z
SUMMARY:Voices From Israel-IDF Briefing for the Portland Jewish Community
DESCRIPTION:Jewish Federation of Greater Portland\nCommunity Calendar\nhttp
 s://jewishportland.org/community-calendar/voices-from-israel-idf-briefing-
 for-the-portland-jewish-community\n\nJewish Federation of Greater Portland
  Invites You To:\n\nHear from voices on the ground in Israel - Every Wedne
 sday 9 AM -10 AM PST.\n\n \n\nREGISTER BELOW FOR ANY OR ALL OF THE ZOOM W
 EBINARS SEPARATELY!\n\n \n\n\nDecember 6th - IDF Briefing\n\n\nDecember 
 13th - Sofie Berzon MacKie\nSurvivor of Kibbutz Be’eri\n\nDecember 20th
  - Israel Story Podcast\n\nDecember 27th - JDC\n \n\nhttps://jewishport
 land.org/israelwebinars
DTSTART;TZID=America/Los_Angeles:20231206T090000
DTEND;TZID=America/Los_Angeles:20231206T100000
END:VEVENT
END:VCALENDAR
