BEGIN:VCALENDAR
PRODID:-//eluceo/ical//2.0/EN
VERSION:2.0
CALSCALE:GREGORIAN
BEGIN:VEVENT
UID:334275105bc184fa648a5010885a02b1
DTSTAMP:20260425T034003Z
SUMMARY:Vancouver Passover Seder
DESCRIPTION:Jewish Federation of Greater Portland\nCommunity Calendar\nhttp
 s://jewishportland.org/community-calendar/vancouver-passover-seder-1678909
 610-433903\n\nChabad Jewish Center of Clark County\n\nPassover Seder\, Wed
 nesday\, April 5th @ 7:30 PM\n\nJoin us for a meaningful\, soulful\, & eng
 aging gourm﻿et dinner and fine wine selection.\n\nRSVP  before March 31
 st: $40 Adult\, $20 Child   |   After March 31:  $50 Adult\, $20 Chil
 d\n\nOur services are led in English and are refreshingly casual and easy 
 to follow. The prayers and songs are recited in both English and Hebrew an
 d everyone are active participants in the service. At Chabad Jewish Cente.
 ..
DTSTART;TZID=America/Los_Angeles:20230405T193000
DTEND;TZID=America/Los_Angeles:20230405T223000
END:VEVENT
END:VCALENDAR
