BEGIN:VCALENDAR
PRODID:-//eluceo/ical//2.0/EN
VERSION:2.0
CALSCALE:GREGORIAN
BEGIN:VEVENT
UID:0a6b579372e52930d48af601730e8d99
DTSTAMP:20260420T115826Z
SUMMARY:United in Song: A Concert for Israel -  A Community of Voices
DESCRIPTION:Jewish Federation of Greater Portland\nCommunity Calendar\nhttp
 s://jewishportland.org/community-calendar/united-in-song-a-concert-for-isr
 ael-a-community-of-voices\n\nJoining Cantor Eyal Bitton will be a communit
 y of voices\, including Cantor Ida Rae Cahana\, Cantor Rayna Green\, Kim S
 chneiderman\, Michèle Tredger\, Linoy Yechieli\, and others for a special
  unity concert to bring us closer together as a community and to show our 
 love and support for the state of Israel. Click here to register.
DTSTART;TZID=America/Los_Angeles:20231108T193000
DTEND;TZID=America/Los_Angeles:20231108T213000
END:VEVENT
END:VCALENDAR
