BEGIN:VCALENDAR
PRODID:-//eluceo/ical//2.0/EN
VERSION:2.0
CALSCALE:GREGORIAN
BEGIN:VEVENT
UID:e94376ebe31f86641305be10fe75eebb
DTSTAMP:20260422T073429Z
SUMMARY:Understanding Houselessness
DESCRIPTION:Jewish Federation of Greater Portland\nCommunity Calendar\nhttp
 s://jewishportland.org/community-calendar/understanding-houselessness-1692
 749020\n\nHear from Rabbi Ariel Stone\, Congregation Shir Tikvah\, as part
  of Rose Schnitzer Manor Assisted Living's September Lecture Series.
DTSTART;TZID=America/Los_Angeles:20230928T190000
DTEND;TZID=America/Los_Angeles:20230928T200000
END:VEVENT
END:VCALENDAR
