BEGIN:VCALENDAR
PRODID:-//eluceo/ical//2.0/EN
VERSION:2.0
CALSCALE:GREGORIAN
BEGIN:VEVENT
UID:bf5d8f0590200f3853532695ce219c68
DTSTAMP:20260419T140705Z
SUMMARY:Tuning in to Nature's Conversation
DESCRIPTION:Jewish Federation of Greater Portland\nCommunity Calendar\nhttp
 s://jewishportland.org/community-calendar/tuning-in-to-natures-conversatio
 n-1703885831\n\nTuning in to Nature's Conversation\nA three part explorati
 on of communication and nature….\n All are welcome to socialize with  a 
 bite and to lift a glass from 6:30\; the learning begins at 7pm.\n\nThe ab
 ility to talk to one another seems more challenging than ever. In a time w
 here we seek tools to have a real exchange and connection\, the natural wo
 rld as understood in classic Jewish sources has some urgent and uplifting 
 guidance. Let's explore some Jewish wisdom about talking trees\, clouds...
DTSTART;TZID=America/Los_Angeles:20240125T183000
DTEND;TZID=America/Los_Angeles:20240125T201500
END:VEVENT
END:VCALENDAR
