BEGIN:VCALENDAR
PRODID:-//eluceo/ical//2.0/EN
VERSION:2.0
CALSCALE:GREGORIAN
BEGIN:VEVENT
UID:7d2589b4e13500c8cf6e06aa0b6c2076
DTSTAMP:20260420T035946Z
SUMMARY:Torah & Tea at the Moishe Pod
DESCRIPTION:Jewish Federation of Greater Portland\nCommunity Calendar\nhttp
 s://jewishportland.org/community-calendar/torah--tea-at-the-moishe-pod-171
 7014421\n\nEmbark on a journey of reflection and connection as we invite y
 ou to join our engaging weekly Parsha discussions. The purpose? To uncover
  meaningful connections between the ancient wisdom of the Parsha and the c
 ontemporary challenges we navigate today. The more diverse perspectives\, 
 the better our understanding. Let&#39\;s share\, learn\, and find relevanc
 e in the timeless teachings of the Parsha. See you there!\n\nMessage for A
 ddress\n*This is a Moishe house sponsored event for people in their 20s ..
 .
DTSTART;TZID=America/Los_Angeles:20240604T190000
DTEND;TZID=America/Los_Angeles:20240604T203000
END:VEVENT
END:VCALENDAR
