BEGIN:VCALENDAR
PRODID:-//eluceo/ical//2.0/EN
VERSION:2.0
CALSCALE:GREGORIAN
BEGIN:VEVENT
UID:f404b4060ca1868160e3dc8c60e394da
DTSTAMP:20260419T160832Z
SUMMARY:Torah & Tea at Moishe Pod
DESCRIPTION:Jewish Federation of Greater Portland\nCommunity Calendar\nhttp
 s://jewishportland.org/community-calendar/torah--tea-at-moishe-pod-1719267
 641\n\nEmbark on a journey of reflection and connection as we invite you t
 o join our engaging weekly Parsha discussions. The purpose? To uncover mea
 ningful connections between the ancient wisdom of the Parsha and the conte
 mporary challenges we navigate today: the more diverse perspectives\, the 
 better our understanding. Let&#39\;s share\, learn\, and find relevance in
  the timeless teachings of the Parsha. See you there!\n\nMessage us for th
 e location.
DTSTART;TZID=America/Los_Angeles:20240702T190000
DTEND;TZID=America/Los_Angeles:20240702T203000
END:VEVENT
END:VCALENDAR
