BEGIN:VCALENDAR
PRODID:-//eluceo/ical//2.0/EN
VERSION:2.0
CALSCALE:GREGORIAN
BEGIN:VEVENT
UID:c7ab2797bf81f7a1462d5ba4cdf717ea
DTSTAMP:20260419T213100Z
SUMMARY:Too Jewish? A Mensch and His Musical
DESCRIPTION:Jewish Federation of Greater Portland\nCommunity Calendar\nhttp
 s://jewishportland.org/community-calendar/too-jewish-a-mensch-and-his-musi
 cal-1702573296\n\nToo Jewish? A Mensch and His Musical \nWith Avi Hoffman\
 , CEO\, President\, and Founder of Yiddishkayt Initiative \n\nAvi Hoffman
 ’s Too Jewish? premiered Off-Broadway at New York’s Houseman Theatre i
 n 1994 and has been presented all over the world\, as well as on the natio
 nal PBS network. Hoffman\, a child of Holocaust survivors\, was taught at 
 an early age to appreciate the beauty and depth of Jewish literature\, mus
 ic and tradition. In Avi Hoffman’s Too Jewish? he combines a delightful 
 mix...
DTSTART;TZID=America/Los_Angeles:20240106T190000
DTEND;TZID=America/Los_Angeles:20240106T210000
END:VEVENT
END:VCALENDAR
