BEGIN:VCALENDAR
PRODID:-//eluceo/ical//2.0/EN
VERSION:2.0
CALSCALE:GREGORIAN
BEGIN:VEVENT
UID:abf38ba282cc5f98375e0ec260df04aa
DTSTAMP:20260422T182647Z
SUMMARY:This is My Earth
DESCRIPTION:Jewish Federation of Greater Portland\nCommunity Calendar\nhttp
 s://jewishportland.org/community-calendar/this-is-my-earth-1689710882\n\nI
 n 2015 while I was on a sabbatical at Portland State University\, I was ca
 lled back to Israel to teach my course on the biodiversity of the Samar sa
 nd dune\, which was under threat at the time. During that visit\, I came u
 p with an idea for how to save this unique land\, and this idea later that
  year grew into an international organization\, named This is My Earth (Ti
 ME) which uses crowdfunding to save our most precious lands with transpare
 nt\, democratic and equal principles. We have already save...
DTSTART;TZID=America/Los_Angeles:20230810T120000
DTEND;TZID=America/Los_Angeles:20230810T133000
END:VEVENT
END:VCALENDAR
