BEGIN:VCALENDAR
PRODID:-//eluceo/ical//2.0/EN
VERSION:2.0
CALSCALE:GREGORIAN
BEGIN:VEVENT
UID:b854bf960a20f602238904e260f06759
DTSTAMP:20260422T001308Z
SUMMARY:theatre dybbuk presents 'One Community\, Many Stories: Belonging'
DESCRIPTION:Jewish Federation of Greater Portland\nCommunity Calendar\nhttp
 s://jewishportland.org/community-calendar/theatre-dybbuk-presents-one-comm
 unity-many-stories-belonging-1697149441\n\ntheatre dybbuk presents 'One Co
 mmunity\, Many Stories: Belonging' This event is focused on LGBTQ+ members
  of the community
DTSTART;TZID=America/Los_Angeles:20231024T183000
DTEND;TZID=America/Los_Angeles:20231024T213000
END:VEVENT
END:VCALENDAR
