BEGIN:VCALENDAR
PRODID:-//eluceo/ical//2.0/EN
VERSION:2.0
CALSCALE:GREGORIAN
BEGIN:VEVENT
UID:b7e8dd67a6fb2ae39359a60c170d456c
DTSTAMP:20260422T155840Z
SUMMARY:The Marianne Wollstein Mah Jongg Madness Brunch and Tournament
DESCRIPTION:Jewish Federation of Greater Portland\nCommunity Calendar\nhttp
 s://jewishportland.org/community-calendar/the-marianne-wollstein-mah-jongg
 -madness-brunch-and-tournament\n\nThe Marianne Wollstein Mah Jongg Madness
  Brunch and Tournament\nSunday\, April 7\n\n•             11
 :00am–12:00pm Brunch and explanation of rules\n\n•          
    12:00pm–4:00pm Tournament and prizes\n\nPlease join us for a fun-fi
 lled day of Mah Jongg and friendship. Experienced and new players are welc
 ome. (No teaching). $36 ~ Space is limited\, so please register by Tuesday
 \, March 26.\n\nFor more information please contact: Judi Goodman (503) 53
 1-7205 or Elisa ...
DTSTART;TZID=America/Los_Angeles:20240407T110000
DTEND;TZID=America/Los_Angeles:20240407T160000
END:VEVENT
END:VCALENDAR
