BEGIN:VCALENDAR
PRODID:-//eluceo/ical//2.0/EN
VERSION:2.0
CALSCALE:GREGORIAN
BEGIN:VEVENT
UID:a02ba0ffe9dccb63d995a51043faf961
DTSTAMP:20260420T065026Z
SUMMARY:The Laws of Chanukah
DESCRIPTION:Jewish Federation of Greater Portland\nCommunity Calendar\nhttp
 s://jewishportland.org/community-calendar/the-laws-of-chanukah-1699399028\
 n\nGreat class for beginners!\nJoin us for an informative and engaging Cha
 nukah class where Rabbi Spivak will explore the laws and customs of Chanuk
 ah.\nThis class will be held at the Portland Kollel with a ZOOM option as 
 well.\n\nPortland Kollel | 6682 SW Capitol HWY Portland OR 97219\nZoom lin
 k will be posted at:\nhttps://portlandkollel.org/chanukah/
DTSTART;TZID=America/Los_Angeles:20231129T200000
DTEND;TZID=America/Los_Angeles:20231129T205000
END:VEVENT
END:VCALENDAR
