BEGIN:VCALENDAR
PRODID:-//eluceo/ical//2.0/EN
VERSION:2.0
CALSCALE:GREGORIAN
BEGIN:VEVENT
UID:2978c1e5541a434f0514428f33638b23
DTSTAMP:20260422T155805Z
SUMMARY:The Cost of Free Land\, Rebecca Clarren
DESCRIPTION:Jewish Federation of Greater Portland\nCommunity Calendar\nhttp
 s://jewishportland.org/community-calendar/the-cost-of-free-land-rebecca-cl
 arren-1709576510\n\nThe entangled story of the author&#39\;s Jewish immigr
 ant ancestors\, the Homestead Act of 1862\, and the appropriation of Lakot
 a tribal lands\, part of our March Lecture Series at Rose Schnitzer Manor 
 Assisted Living (6140 SW Boundary Street\, Portland\, OR 97221). No RSVP n
 ecessary.
DTSTART;TZID=America/Los_Angeles:20240314T190000
DTEND;TZID=America/Los_Angeles:20240314T200000
END:VEVENT
END:VCALENDAR
