BEGIN:VCALENDAR
PRODID:-//eluceo/ical//2.0/EN
VERSION:2.0
CALSCALE:GREGORIAN
BEGIN:VEVENT
UID:8443dcb611d6a5de47dbecc70e4ba45e
DTSTAMP:20260419T213415Z
SUMMARY:"THE CANDLE OF G-D IS A JEWS SOUL" A CHANUKAH CLASS
DESCRIPTION:Jewish Federation of Greater Portland\nCommunity Calendar\nhttp
 s://jewishportland.org/community-calendar/the-candle-of-g-d-is-a-jews-soul
 -a-chanukah-class-1699565267\n\nAre you ready to discover the hidden meani
 ng of Chanukah? Join Rabbi Dovid Y. Rimmer on a Chassidic journey of explo
 ration of the relationship between the Chanukah candles and our Jewish ide
 ntity. Learn how the Menora interplays with our soul and how we can ignite
  our inner light in the dark times. Take advantage of this opportunity to 
 connect\, celebrate\, and ignite the miracle of Chanukah!
DTSTART;TZID=America/Los_Angeles:20231205T200000
DTEND;TZID=America/Los_Angeles:20231205T204000
END:VEVENT
END:VCALENDAR
