BEGIN:VCALENDAR
PRODID:-//eluceo/ical//2.0/EN
VERSION:2.0
CALSCALE:GREGORIAN
BEGIN:VEVENT
UID:425b39036d617f169b9adba2a739bc2f
DTSTAMP:20260419T155444Z
SUMMARY:The 7th Annual Yoni Suher (z”l) Scholar-in-Residence
DESCRIPTION:Jewish Federation of Greater Portland\nCommunity Calendar\nhttp
 s://jewishportland.org/community-calendar/the-7th-annual-yoni-suher-zl-sch
 olar-in-residence\n\n“Science\, Artificial Intelligence\, and the Human 
 Connection” with Award-Winning Physicist\, Professor Daniel Zajfman\n\n\
 n\n\n\nSchedule of Events\n\n\n\n\n\nScience for the Benefit of Humanity\n
 Friday\, May 3\, 7:00pm\, Dinner and Talk (After 6:15pm Service)\nA presen
 tation on the journey to the paradise of science\n\n\n\n\n\nArtificial Int
 elligence: A Panel Discussion\nSaturday\, May 4\, 7:00pm\, Dessert and Bev
 erages\nA panel of experts leads us through where we are and where we migh
 t be ...
DTSTART;TZID=America/Los_Angeles:20240503T000000
DTEND;TZID=America/Los_Angeles:20240505T235959
END:VEVENT
END:VCALENDAR
