BEGIN:VCALENDAR
PRODID:-//eluceo/ical//2.0/EN
VERSION:2.0
CALSCALE:GREGORIAN
BEGIN:VEVENT
UID:64937a453196e3b8fc855638835d20a0
DTSTAMP:20260422T073439Z
SUMMARY:Tashlich
DESCRIPTION:Jewish Federation of Greater Portland\nCommunity Calendar\nhttp
 s://jewishportland.org/community-calendar/tashlich-1691171164\n\nTashlich\
 n4:00 PM\nIn-Person ONLY\nVarious Portland locations\; register at https:/
 /www.bethisrael-pdx.org/tashlich/\n\nPortland’s proximity to the beautif
 ul Willamette River makes Tashlich with Congregation Beth Israel a particu
 larly beautiful experience. \n\nAll who wish to join Congregation Beth Isr
 ael for the High Holidays are welcome to do so\; please register in advanc
 e at https://www.bethisrael-pdx.org/high-holidays-guests/
DTSTART;TZID=America/Los_Angeles:20230916T160000
DTEND;TZID=America/Los_Angeles:20230916T170000
END:VEVENT
END:VCALENDAR
