BEGIN:VCALENDAR
PRODID:-//eluceo/ical//2.0/EN
VERSION:2.0
CALSCALE:GREGORIAN
BEGIN:VEVENT
UID:b4e7ec85201fce0f45b86e8f8656d6f0
DTSTAMP:20260422T044743Z
SUMMARY:Families and Friends Sunday in the Gesher Sukkah
DESCRIPTION:Jewish Federation of Greater Portland\nCommunity Calendar\nhttp
 s://jewishportland.org/community-calendar/sunday-in-the-gesher-sukkah\n\n
  \n\nFAMILIES AND FRIENDS IN THE GESHER SUKKAH!\n\n5:00 PM\, SUNDAY\, OCT
 OBER 1ST AT GESHER\, 10701 SW 25th Ave.\, Portland.\n\nRabbi Laurie and Ra
 bbi Gary invite young families to join them at Gesher in their Sukkah.  
 It&#39\;s time to get moving and hammering.  We will pick branches from o
 ur property to finish the cover and decorate the Sukkah\, and everyone can
  help with painting it." We&#39\;ll wave the Lulav and smell the Etrog a
 nd watch the stars come out and the full moon rise over the sukkah!...
DTSTART;TZID=America/Los_Angeles:20231001T170000
DTEND;TZID=America/Los_Angeles:20231001T190000
END:VEVENT
END:VCALENDAR
