BEGIN:VCALENDAR
PRODID:-//eluceo/ical//2.0/EN
VERSION:2.0
CALSCALE:GREGORIAN
BEGIN:VEVENT
UID:a35a448ac39c74a282e43bd162d4d801
DTSTAMP:20260419T173522Z
SUMMARY:Sunday Afternoon Klez Jam at EJC
DESCRIPTION:Jewish Federation of Greater Portland\nCommunity Calendar\nhttp
 s://jewishportland.org/community-calendar/sunday-afternoon-klez-jam-at-ejc
 -1703106199\n\nEJC Klezmer Jam
DTSTART;TZID=America/Los_Angeles:20240107T130000
DTEND;TZID=America/Los_Angeles:20240107T150000
END:VEVENT
END:VCALENDAR
