BEGIN:VCALENDAR
PRODID:-//eluceo/ical//2.0/EN
VERSION:2.0
CALSCALE:GREGORIAN
BEGIN:VEVENT
UID:f9d2f74168299f288f7fc96767b230f9
DTSTAMP:20260423T201611Z
SUMMARY:Sukkot Service - Neveh Shalom
DESCRIPTION:Jewish Federation of Greater Portland\nCommunity Calendar\nhttp
 s://jewishportland.org/community-calendar/sukkot-service-neveh-shalom1\n\n
 Sukkot Service (Kiddush lunch to follow)
DTSTART;TZID=America/Los_Angeles:20231001T093000
DTEND;TZID=America/Los_Angeles:20231001T113000
END:VEVENT
END:VCALENDAR
