BEGIN:VCALENDAR
PRODID:-//eluceo/ical//2.0/EN
VERSION:2.0
CALSCALE:GREGORIAN
BEGIN:VEVENT
UID:80dc1e64dd41f82fa0e2a068c5fbd907
DTSTAMP:20260422T184431Z
SUMMARY:Sukkot Service - Beit Haverim
DESCRIPTION:Jewish Federation of Greater Portland\nCommunity Calendar\nhttp
 s://jewishportland.org/community-calendar/sukkot-service---beit-haverim-16
 92906050\n\nSukkot Service
DTSTART;TZID=America/Los_Angeles:20230929T190000
DTEND;TZID=America/Los_Angeles:20230929T200000
END:VEVENT
END:VCALENDAR
