BEGIN:VCALENDAR
PRODID:-//eluceo/ical//2.0/EN
VERSION:2.0
CALSCALE:GREGORIAN
BEGIN:VEVENT
UID:3f8e9600b841f037a9eb409f6e46e548
DTSTAMP:20260422T001222Z
SUMMARY:Sukkot Potluck and Israeli Dancing
DESCRIPTION:Jewish Federation of Greater Portland\nCommunity Calendar\nhttp
 s://jewishportland.org/community-calendar/sukkot-potluck-and-israeli-danci
 ng-1695237628\n\nJoin the meetup group MOTS at a local park (in SW) for a 
 potluck and Israeli dancing for the last day of Sukkot (Friday Oct. 6).\n\
 nMust RSVP through meetup page @ https://www.meetup.com/pdxmots-35-54/even
 ts/296210646/\n\nWhat is MOTS?\nWe are a group of Jews between 35-54\, who
  like to do happy hours\, cultural events and many more. Not affiliated wi
 th any synagogue or sects. We are open to all in the Jewish community.\n\n
 Please check us out at https://www.meetup.com/pdxmots-35-54 for more inf..
 .
DTSTART;TZID=America/Los_Angeles:20231006T180000
DTEND;TZID=America/Los_Angeles:20231006T210000
END:VEVENT
END:VCALENDAR
