BEGIN:VCALENDAR
PRODID:-//eluceo/ical//2.0/EN
VERSION:2.0
CALSCALE:GREGORIAN
BEGIN:VEVENT
UID:eeec30551c620a13ee4c7803b4fe0b01
DTSTAMP:20260423T214009Z
SUMMARY:Sukkot Celebration-Shir Tikvah
DESCRIPTION:Jewish Federation of Greater Portland\nCommunity Calendar\nhttp
 s://jewishportland.org/community-calendar/sukkot-celebration-1693432092\n\
 nCome celebrate Sukkot with us and bring something to share!
DTSTART;TZID=America/Los_Angeles:20231001T130000
DTEND;TZID=America/Los_Angeles:20231001T160000
END:VEVENT
END:VCALENDAR
