BEGIN:VCALENDAR
PRODID:-//eluceo/ical//2.0/EN
VERSION:2.0
CALSCALE:GREGORIAN
BEGIN:VEVENT
UID:8159f9f6cc1ff742a94eeb6e8cd86b02
DTSTAMP:20260420T033010Z
SUMMARY:Student Seder
DESCRIPTION:Jewish Federation of Greater Portland\nCommunity Calendar\nhttp
 s://jewishportland.org/community-calendar/student-seder-1713278777-464554\
 n\nFree Seder for college students! \nHosted at the Chabad on Campus SW Po
 rtland Jewish Student Center\, this Seder will be enjoyable\, meaningful\,
  and interactive. With family vibes\, homemade brisket\, and your favorite
  Pesach foods\, you will feel at home. \nNo prior knowledge necessary.
DTSTART;TZID=America/Los_Angeles:20240423T194500
DTEND;TZID=America/Los_Angeles:20240423T235900
END:VEVENT
END:VCALENDAR
