BEGIN:VCALENDAR
PRODID:-//eluceo/ical//2.0/EN
VERSION:2.0
CALSCALE:GREGORIAN
BEGIN:VEVENT
UID:93bc3e5fb1f69da7d6d03e50df3e7ac5
DTSTAMP:20260419T121845Z
SUMMARY:S’mores and Hanukkah Sing-a-Long
DESCRIPTION:Jewish Federation of Greater Portland\nCommunity Calendar\nhttp
 s://jewishportland.org/community-calendar/smores-and-hanukkah-sing-a-long\
 n\nS’mores and Hanukkah Sing-a-Long\nDecember 7 | 6:00PM\nLeikam Brewing
 \, 5812 E Burnside St\n\nCelebrate the first night of Hanukkah with BB Cam
 p at Leikam Brewing. Holiday sing-a-long with Kim Schneiderman\, delicious
  Smore’s around firepits\, and a community lighting of the first candle 
 (bring your menorah if you’d like!)\n\nOpen to all! Food and beverages a
 re available to purchase! Street parking\, dress warm (we will be outside 
 in front of sheltered firepits.)\n\nCo-hosted by Leikam Brew...
DTSTART;TZID=America/Los_Angeles:20231207T180000
DTEND;TZID=America/Los_Angeles:20231207T193000
END:VEVENT
END:VCALENDAR
