BEGIN:VCALENDAR
PRODID:-//eluceo/ical//2.0/EN
VERSION:2.0
CALSCALE:GREGORIAN
BEGIN:VEVENT
UID:8eb4f60ef8a25c6ff527e3ed7cda0ab2
DTSTAMP:20260419T213246Z
SUMMARY:CNS Sisterhood Shabbat & Shabbat Of Love
DESCRIPTION:Jewish Federation of Greater Portland\nCommunity Calendar\nhttp
 s://jewishportland.org/community-calendar/sisterhood-shabbat-shabbat-of-lo
 ve\n\nJoin the Neveh Shalom Sisterhood along with Rabbi David Kosak and Ca
 ntor Eyal Bitton for a very special Kabbalat Shabbat service.\n\nIn additi
 on to our Sisterhood leading us in the service we will be celebrating Shab
 bat of Love with Jewish Communities nationwide. Be part of a Shabbat celeb
 ration of historic proportions. #ShabbatofLove is an opportunity to experi
 ence Jewish joy with family\, friends\, and supportive neighbors. Learn mo
 re: www.shabbatoflove.org\n\nStay after to mingle and enjoy a...
DTSTART;TZID=America/Los_Angeles:20240119T181500
DTEND;TZID=America/Los_Angeles:20240119T201500
END:VEVENT
END:VCALENDAR
