BEGIN:VCALENDAR
PRODID:-//eluceo/ical//2.0/EN
VERSION:2.0
CALSCALE:GREGORIAN
BEGIN:VEVENT
UID:6f3bc8203d43e2626845794da333c8ba
DTSTAMP:20260424T214831Z
SUMMARY:Shofar in the Park in Lake Oswego's Foothills Park
DESCRIPTION:Jewish Federation of Greater Portland\nCommunity Calendar\nhttp
 s://jewishportland.org/community-calendar/shofar-in-the-park-in-lake-osweg
 os-foothills-park-1692918723\n\nLet&#39\;s start the new Jewish year off a
 s a community in the gorgeous confines of Foothills Park!\n\nJoin us this 
 Rosh Hashanah on Sunday\, September 17th at 5 pm for a Shofar in the Park 
 and Tashlich ceremony.\n\nRSVP at jewishlo.com/shofarinthepark.
DTSTART;TZID=America/Los_Angeles:20230917T170000
DTEND;TZID=America/Los_Angeles:20230917T175500
END:VEVENT
END:VCALENDAR
