BEGIN:VCALENDAR
PRODID:-//eluceo/ical//2.0/EN
VERSION:2.0
CALSCALE:GREGORIAN
BEGIN:VEVENT
UID:cfb4f76b2d5c9f35423c483e0d26566c
DTSTAMP:20260420T065046Z
SUMMARY:Shir Tikvah Hanukkah Fair
DESCRIPTION:Jewish Federation of Greater Portland\nCommunity Calendar\nhttp
 s://jewishportland.org/community-calendar/shir-tikvah-hanukkah-fair-169878
 4520\n\nOur annual Hanukkah Pop Up Fair features gifts\, treats and holida
 y swag for the whole family.\n\nThere will be art by ORA: NW Jewish Artist
 s\, Luz Jewelry\, Mudslinger’s Pottery and more.
DTSTART;TZID=America/Los_Angeles:20231126T100000
DTEND;TZID=America/Los_Angeles:20231126T150000
END:VEVENT
END:VCALENDAR
