BEGIN:VCALENDAR
PRODID:-//eluceo/ical//2.0/EN
VERSION:2.0
CALSCALE:GREGORIAN
BEGIN:VEVENT
UID:9e7982b2f504ce757a1d1b47b21ac47e
DTSTAMP:20260419T173834Z
SUMMARY:"SHINE YOUR LIGHT" Menorah Lighting and Chanukah Celebation
DESCRIPTION:Jewish Federation of Greater Portland\nCommunity Calendar\nhttp
 s://jewishportland.org/community-calendar/shine-your-light-menorah-lightin
 g-and-chanukah-celebation-1700164864\n\nCelebrate Chanukah in Lake Oswego!
  Join the community for our annual Menorah Lighting and Chanukah celebrati
 on!\n\nThis year&#39\;s experience includes:\n- Live graffiti decoration o
 f a Menorah\n- Latka Bar and Hot drinks\n- Airbrush artist\n- The positive
  Chanukah energy!\n\nIt&#39\;s an experience you don&#39\;t want to miss!\
 n\nRSVP today @ jewishlo.com/shine
DTSTART;TZID=America/Los_Angeles:20231210T170000
DTEND;TZID=America/Los_Angeles:20231210T183000
END:VEVENT
END:VCALENDAR
