BEGIN:VCALENDAR
PRODID:-//eluceo/ical//2.0/EN
VERSION:2.0
CALSCALE:GREGORIAN
BEGIN:VEVENT
UID:139cb75b010b30a0e23bc8fb60623953
DTSTAMP:20260422T235829Z
SUMMARY:Shabbat on the Plaza: Simcha Shabbat
DESCRIPTION:Jewish Federation of Greater Portland\nCommunity Calendar\nhttp
 s://jewishportland.org/community-calendar/shabbat-on-the-plaza-simcha-shab
 bat\n\nAt Congregation Neveh Shalom\, we are delighted to recognize the ma
 ny people in our Kehillah who have experienced simchas/celebrations in the
  past year – B’nai Mitzvah\, new babies\, weddings\, conversions\, and
  all other joyous occasions\, followed by an oneg burrito bar. If you have
  had one of these simchas\, please come join us. If you have not\, please 
 come support and celebrate with those who have! No RSVP needed. Service be
 gins at 6:15 pm on the Holzman Plaza. 
DTSTART;TZID=America/Los_Angeles:20230811T181500
DTEND;TZID=America/Los_Angeles:20230811T213000
END:VEVENT
END:VCALENDAR
