BEGIN:VCALENDAR
PRODID:-//eluceo/ical//2.0/EN
VERSION:2.0
CALSCALE:GREGORIAN
BEGIN:VEVENT
UID:8584b5490ccfb0ce17b0d6c8d9d66292
DTSTAMP:20260422T001242Z
SUMMARY:Shabbat of Love at CBI
DESCRIPTION:Jewish Federation of Greater Portland\nCommunity Calendar\nhttp
 s://jewishportland.org/community-calendar/shabbat-of-love-at-cbi-170370412
 8\n\nAs part of the Jewish Federations of North America's "Shabbat of Love
 \," Congregation Beth Israel will send every attendee of our Friday Night 
 Services home with a mini loaf of challah so that their Shabbat dinners in
  their own home can be part of the largest Shabbat dinner celebration in N
 orth American History.
DTSTART;TZID=America/Los_Angeles:20240119T180000
DTEND;TZID=America/Los_Angeles:20240119T193000
END:VEVENT
END:VCALENDAR
