BEGIN:VCALENDAR
PRODID:-//eluceo/ical//2.0/EN
VERSION:2.0
CALSCALE:GREGORIAN
BEGIN:VEVENT
UID:87edf5361e60ed2f38da92badc39a7ce
DTSTAMP:20260419T143428Z
SUMMARY:Shabbat Evening Services and Passover Seder Experience
DESCRIPTION:Jewish Federation of Greater Portland\nCommunity Calendar\nhttp
 s://jewishportland.org/community-calendar/shabbat-evening-services-and-pas
 sover-seder-experience-1711725385\n\nCongregation Beth Israel hosts a Shab
 bat celebration coupled with a light Passover meal\; all are welcome.
DTSTART;TZID=America/Los_Angeles:20240426T180000
DTEND;TZID=America/Los_Angeles:20240426T200000
END:VEVENT
END:VCALENDAR
