BEGIN:VCALENDAR
PRODID:-//eluceo/ical//2.0/EN
VERSION:2.0
CALSCALE:GREGORIAN
BEGIN:VEVENT
UID:979c77e341b7d14b6399fbcebed697a7
DTSTAMP:20260422T055219Z
SUMMARY:Shaarie Torah RH Family Experience
DESCRIPTION:Jewish Federation of Greater Portland\nCommunity Calendar\nhttp
 s://jewishportland.org/community-calendar/shaarie-torah-rh-family-experien
 ce\n\nWe welcome you to join us for our Rosh Hashanah Family Experience at
  Shaarie Torah. Families are welcome to join after the program for Kiddush
  lunch or join main services in our sanctuary. \n\nCST is your place for
  MORE in 5784!\n\nWe'll gather in our downstairs social hall with Educat
 ion Director Cara Abrams and our special guest co-leader Brianah Caplan. W
 e also have a Family Experience for Yom Kippur as well as other family pro
 gramming during Sukkot and Simchat Torah. \n\n \n\nWe ask ...
DTSTART;TZID=America/Los_Angeles:20230916T100000
DTEND;TZID=America/Los_Angeles:20230916T113000
END:VEVENT
END:VCALENDAR
