BEGIN:VCALENDAR
PRODID:-//eluceo/ical//2.0/EN
VERSION:2.0
CALSCALE:GREGORIAN
BEGIN:VEVENT
UID:224b08bd4430d314f4214e54ecbd9a52
DTSTAMP:20260422T053600Z
SUMMARY:Shaarie Torah Erev Rosh Hashanah Services
DESCRIPTION:Jewish Federation of Greater Portland\nCommunity Calendar\nhttp
 s://jewishportland.org/community-calendar/shaarie-torah-erev-rosh-hashanah
 \n\nWe welcome you to join us for Erev Rosh Hashanah Services at Shaarie T
 orah. CST is your place for MORE in 5784!\n\nWe&#39\;ll gather in our sanc
 tuary with Rabbi Oren\, High Holy Day Soloist Rav Na&#39\;am﻿a Leviz Ap
 plbaum joining us from Israel. We ask everyone to register to let us know 
 you&#39\;re coming. Register here\n\nWe are thankful to our community memb
 ers for supporting the synagogue so we can provide joyful\, meaningful\, a
 nd inspiring Jewish experiences.\n\nIf you are not a member\, we welcome y
 ou...
DTSTART;TZID=America/Los_Angeles:20230915T193000
DTEND;TZID=America/Los_Angeles:20230915T210000
END:VEVENT
END:VCALENDAR
