BEGIN:VCALENDAR
PRODID:-//eluceo/ical//2.0/EN
VERSION:2.0
CALSCALE:GREGORIAN
BEGIN:VEVENT
UID:62709c5edb8a996eaaa8e49c3d9d5d8b
DTSTAMP:20260425T151706Z
SUMMARY:Seventh Night of Passover: Celebrate and Learn with Rabbi Hannah vi
 a Zoom
DESCRIPTION:Jewish Federation of Greater Portland\nCommunity Calendar\nhttp
 s://jewishportland.org/community-calendar/seventh-night-of-passover-celebr
 ate-and-learn-with-rabbi-hannah-via-zoom-1679022735\n\nPlease join us on Z
 oom on the 7th night of Pesach\, Shvi’i Shel Pesach\, for an evening of 
 celebration and learning with Rabbi Hannah. We will light Yahrzeit candles
  and Holy Day candles together. Contact admin@pnaiorpdx.org for Zoom link.
DTSTART;TZID=America/Los_Angeles:20230411T191500
DTEND;TZID=America/Los_Angeles:20230411T204500
END:VEVENT
END:VCALENDAR
