BEGIN:VCALENDAR
PRODID:-//eluceo/ical//2.0/EN
VERSION:2.0
CALSCALE:GREGORIAN
BEGIN:VEVENT
UID:1feb12e3030f95aabdd16ef26208eeb1
DTSTAMP:20260422T182627Z
SUMMARY:Setting Up a Care Plan and Team
DESCRIPTION:Jewish Federation of Greater Portland\nCommunity Calendar\nhttp
 s://jewishportland.org/community-calendar/setting-up-a-care-plan-and-team-
 1692748805\n\nSheila Cohen lost her home to Hurricane Katrina\, which set 
 her on a downhill path\, as she lost her artistry\, her health\, and ultim
 ately her life to Alzheimer's. Son Bill Cohen\, owner of Cohen Caregiving 
 Support Consultants\, will share his caregiving journey with Sheila\, a fo
 rmer Cedar Sinai Park resident. How can you create a dementia care plan an
 d team to advocate for aging parents? Bill can also answer questions on ca
 regiving\, self-care\, and elder mediation.
DTSTART;TZID=America/Los_Angeles:20230911T190000
DTEND;TZID=America/Los_Angeles:20230911T200000
END:VEVENT
END:VCALENDAR
