BEGIN:VCALENDAR
PRODID:-//eluceo/ical//2.0/EN
VERSION:2.0
CALSCALE:GREGORIAN
BEGIN:VEVENT
UID:5fd5bbc6d45244dfa871ed2c866667e5
DTSTAMP:20260424T182729Z
SUMMARY:Schechter Spark 2023
DESCRIPTION:Jewish Federation of Greater Portland\nCommunity Calendar\nhttp
 s://jewishportland.org/community-calendar/schechter-spark-2023-1668540592\
 n\nJoin Camp Solomon Schechter as we celebrate camp\, raise critical funds
 \, and build our Jewish future!
DTSTART;TZID=America/Los_Angeles:20230507T160000
DTEND;TZID=America/Los_Angeles:20230507T180000
END:VEVENT
END:VCALENDAR
