BEGIN:VCALENDAR
PRODID:-//eluceo/ical//2.0/EN
VERSION:2.0
CALSCALE:GREGORIAN
BEGIN:VEVENT
UID:0d3b22d542185e42e8d2ef0c3a2e6037
DTSTAMP:20260420T051138Z
SUMMARY:Sandy Community Menorah Lighting
DESCRIPTION:Jewish Federation of Greater Portland\nCommunity Calendar\nhttp
 s://jewishportland.org/community-calendar/sandy-community-menorah-lighting
 -1701044698\n\nEnjoy Chanukah\, the festival of lights\, in Sandy with a c
 ommunity Menorah lighting and Chanukah Celebration.\n\n* Chanukah music & 
 spirit\n* Donuts & chocolate coins\n* Dancing Dreidels\n* Historic printin
 g of the Tanya\, the first Hebrew book to be printed in Sandy\n\nThis even
 t is open to all! Join us on Tuesday\, December 12th 5:30 pm at Centennial
  Plaza - 39295 Pioneer Boulevard.
DTSTART;TZID=America/Los_Angeles:20231212T173000
DTEND;TZID=America/Los_Angeles:20231212T190000
END:VEVENT
END:VCALENDAR
