BEGIN:VCALENDAR
PRODID:-//eluceo/ical//2.0/EN
VERSION:2.0
CALSCALE:GREGORIAN
BEGIN:VEVENT
UID:40c0e7bd2d19777cd39ea8709530cb97
DTSTAMP:20260425T215433Z
SUMMARY:Rosh Hashanah Learning Experience at Neveh Shalom
DESCRIPTION:Jewish Federation of Greater Portland\nCommunity Calendar\nhttp
 s://jewishportland.org/community-calendar/rosh-hashanah-learning-experienc
 e-at-neveh-shalom\n\nOn the second day of Rosh Hashanah\, please join us a
 t Neveh Shalom for these special alternative adult learning experiences. T
 hese sessions are FREE AND OPEN TO ALL. NO TICKETS REQUIRED\n\n \n\n9:00
 am Rabbi David Kosak - Living with the Heartbreak of Joy This year\, our 
 community will be exploring what it means to live\, learn\, and lead with 
 a whole heart.  In this session\, we will look at texts that address how 
 we can live joyously through life’s ups and downs. As Rabbi Alan Lew onc
 e not...
DTSTART;TZID=America/Los_Angeles:20230917T090000
DTEND;TZID=America/Los_Angeles:20230917T130000
END:VEVENT
END:VCALENDAR
