BEGIN:VCALENDAR
PRODID:-//eluceo/ical//2.0/EN
VERSION:2.0
CALSCALE:GREGORIAN
BEGIN:VEVENT
UID:56a5df62dd37e036d0c4ee16e6c0d114
DTSTAMP:20260426T001809Z
SUMMARY:Rosh Hashanah Family Service for Ages 5 and Over with Havurah Shalo
 m
DESCRIPTION:Jewish Federation of Greater Portland\nCommunity Calendar\nhttp
 s://jewishportland.org/community-calendar/rosh-hashanah-family-service-for
 -ages-5-and-over-with-havurah-shalom-1693505759\n\nRosh Hashanah Family Se
 rvice (ages 5+) with Havurah ShalomFree and open to all\, please be sure t
 o RSVP/sign up for the Family Service here: https://www.havurahshalom.org/
 event/ip-rosh-hashanah-family-service.htmlEspecially for families with chi
 ldren over age 5! This upbeat and participatory Rosh Hashanah service is f
 or the whole family! Enjoy stories and skits\, soulful prayers and contemp
 orary songs\, as we all begin the year anew\, together. This service will 
 be in person only\, with no online ...
DTSTART;TZID=America/Los_Angeles:20230916T103000
DTEND;TZID=America/Los_Angeles:20230916T111500
END:VEVENT
END:VCALENDAR
