BEGIN:VCALENDAR
PRODID:-//eluceo/ical//2.0/EN
VERSION:2.0
CALSCALE:GREGORIAN
BEGIN:VEVENT
UID:fffb78fa745f1a583e1981057f7e2a28
DTSTAMP:20260422T081339Z
SUMMARY:Rosh Hashanah 2nd Day - Ahavath Achim
DESCRIPTION:Jewish Federation of Greater Portland\nCommunity Calendar\nhttp
 s://jewishportland.org/community-calendar/rosh-hashanah---ahavath-achim-16
 92918225\n\nSunday\, September 17\n         Tefila9:00 a.m.\nSelling Mitzv
 otes10:15 a.m.\nTorah Service10:30 a.m.\nRabbi’s Sermon11:45 a.m.\nSound
 ing of the ShofarNoon\nMusaf12:20 p.m.\nMincha followed by Arvit6:30 p.m.\
 nHavdalah8:02 p.m.\nLight Kiddush Lunch provided following services
DTSTART;TZID=America/Los_Angeles:20230917T090000
DTEND;TZID=America/Los_Angeles:20230917T200000
END:VEVENT
END:VCALENDAR
