BEGIN:VCALENDAR
PRODID:-//eluceo/ical//2.0/EN
VERSION:2.0
CALSCALE:GREGORIAN
BEGIN:VEVENT
UID:47f88168899f806e6821b5392645afa6
DTSTAMP:20260419T155509Z
SUMMARY:Rev. Dr. Martin Luther King\, Jr. Shabbat Service
DESCRIPTION:Jewish Federation of Greater Portland\nCommunity Calendar\nhttp
 s://jewishportland.org/community-calendar/rev-dr-martin-luther-king-jr-sha
 bbat-service-1702573626\n\n"From Home to the Greyhound Station to Parchman
  Prison to Death Row: How I Became a Man at Thirteen"\n\nRev. Dr. Martin L
 uther King\, Jr. Shabbat Service\nWith sermon from lifelong activist Hezek
 iah Watkins\nFriday\, January 12\, 2024\, 6:00 PM\nIn-Person and Online\nM
 ain Sanctuary\n\nAlways a highlight of the CBI calendar\, our annual Rever
 end Dr. Martin Luther King\, Jr. Shabbat Service honors Dr. King’s memor
 y\, work\, and enduring legacy. The CBI and greater Portland communities c
 ome together...
DTSTART;TZID=America/Los_Angeles:20240112T180000
DTEND;TZID=America/Los_Angeles:20240112T200000
END:VEVENT
END:VCALENDAR
