BEGIN:VCALENDAR
PRODID:-//eluceo/ical//2.0/EN
VERSION:2.0
CALSCALE:GREGORIAN
BEGIN:VEVENT
UID:664532434a2273420d658d5012313c7f
DTSTAMP:20260420T133316Z
SUMMARY:Purim Palooza Carnival
DESCRIPTION:Jewish Federation of Greater Portland\nCommunity Calendar\nhttp
 s://jewishportland.org/community-calendar/purim-palooza-carnival\n\nThursd
 ay\, March 21\, 3:00-6:00pm\nCongregation Neveh Shalom\n\nCostumes encoura
 ged!\n\nJOIN THE CELEBRATION\, Attention all families… You are invited f
 or a fun carnival experience. Enjoy a bounce house\, face painting\, gaga 
 pit\, carnival games\, special crafts and treats and MORE!!!\n\nAll Access
  Family Pass\n$54/family – Unlimited activities and nosh included in the
  price of admission.\n\nRSVP: https://members.nevehshalom.org/form/Purim-P
 alooza-Carnival-2024
DTSTART;TZID=America/Los_Angeles:20240321T150000
DTEND;TZID=America/Los_Angeles:20240321T180000
END:VEVENT
END:VCALENDAR
