BEGIN:VCALENDAR
PRODID:-//eluceo/ical//2.0/EN
VERSION:2.0
CALSCALE:GREGORIAN
BEGIN:VEVENT
UID:62f78afeeb4acac69126e4319f48c3b0
DTSTAMP:20260420T154639Z
SUMMARY:Purim at Kesser - Breakfast\, Parade\, Shpiel
DESCRIPTION:Jewish Federation of Greater Portland\nCommunity Calendar\nhttp
 s://jewishportland.org/community-calendar/purim-at-kesser---breakfast-para
 de-shpiel-1709164957\n\nFor complete schedule:\n\nhttps://images.shulcloud
 .com/13543/665122_orig.jpg\n\nSunday\, March 24\n\n8:40 AM2nd Megillah\n9:
 30 AMBreakfast\n10:00 AMKids Costume Parade\n10:15 AMPurim Shpiel
DTSTART;TZID=America/Los_Angeles:20240324T084000
DTEND;TZID=America/Los_Angeles:20240324T110000
END:VEVENT
END:VCALENDAR
