BEGIN:VCALENDAR
PRODID:-//eluceo/ical//2.0/EN
VERSION:2.0
CALSCALE:GREGORIAN
BEGIN:VEVENT
UID:ae8d496bbacc163d829a9acb04640f07
DTSTAMP:20260422T032510Z
SUMMARY:Purim at Ahavath Achim
DESCRIPTION:Jewish Federation of Greater Portland\nCommunity Calendar\nhttp
 s://jewishportland.org/community-calendar/purim-1710808375\n\nSaturday Nig
 ht March 23\, 2024\n\nLight Dinner at 7:00 P.m. (RSVP REQUESTED)\n\nMegill
 ah Reading at 8:15 p.m.\n\nFestive Attire!
DTSTART;TZID=America/Los_Angeles:20240323T190000
DTEND;TZID=America/Los_Angeles:20240323T210000
END:VEVENT
END:VCALENDAR
